BEGIN:VCALENDAR
VERSION:2.0
PRODID:-//Iglesia Arca de Salvación e.V. - ECPv6.15.20//NONSGML v1.0//EN
CALSCALE:GREGORIAN
METHOD:PUBLISH
X-ORIGINAL-URL:https://iglesiaarcadesalvacion.de
X-WR-CALDESC:Eventos para Iglesia Arca de Salvación e.V.
REFRESH-INTERVAL;VALUE=DURATION:PT1H
X-Robots-Tag:noindex
X-PUBLISHED-TTL:PT1H
BEGIN:VTIMEZONE
TZID:Europe/Helsinki
BEGIN:DAYLIGHT
TZOFFSETFROM:+0200
TZOFFSETTO:+0300
TZNAME:EEST
DTSTART:20240331T010000
END:DAYLIGHT
BEGIN:STANDARD
TZOFFSETFROM:+0300
TZOFFSETTO:+0200
TZNAME:EET
DTSTART:20241027T010000
END:STANDARD
BEGIN:DAYLIGHT
TZOFFSETFROM:+0200
TZOFFSETTO:+0300
TZNAME:EEST
DTSTART:20250330T010000
END:DAYLIGHT
BEGIN:STANDARD
TZOFFSETFROM:+0300
TZOFFSETTO:+0200
TZNAME:EET
DTSTART:20251026T010000
END:STANDARD
BEGIN:DAYLIGHT
TZOFFSETFROM:+0200
TZOFFSETTO:+0300
TZNAME:EEST
DTSTART:20260329T010000
END:DAYLIGHT
BEGIN:STANDARD
TZOFFSETFROM:+0300
TZOFFSETTO:+0200
TZNAME:EET
DTSTART:20261025T010000
END:STANDARD
END:VTIMEZONE
BEGIN:VEVENT
DTSTART;TZID=Europe/Helsinki:20250308T160000
DTEND;TZID=Europe/Helsinki:20250308T200000
DTSTAMP:20260421T101858
CREATED:20250305T041748Z
LAST-MODIFIED:20250305T041748Z
UID:1749-1741449600-1741464000@iglesiaarcadesalvacion.de
SUMMARY:Seminario de Liderazgo
DESCRIPTION:
URL:https://iglesiaarcadesalvacion.de/event/seminario-de-liderazgo/
LOCATION:Iglesia Pentecostal Arca de Salvacion e.V.\, Hirblinger Straße 133b\, Augsburg\, Bayern\, 86156\, Alemania
ATTACH;FMTTYPE=image/png:https://iglesiaarcadesalvacion.de/wp-content/uploads/2025/03/Seminario-de-Liderazgo.png
ORGANIZER;CN="Pastor Jorge Rosario":MAILTO:arcadesalvacione.v@gmail.com
END:VEVENT
BEGIN:VEVENT
DTSTART;TZID=Europe/Helsinki:20250309T150000
DTEND;TZID=Europe/Helsinki:20250309T180000
DTSTAMP:20260421T101858
CREATED:20250305T065406Z
LAST-MODIFIED:20250305T070241Z
UID:1785-1741532400-1741543200@iglesiaarcadesalvacion.de
SUMMARY:Santa Cena
DESCRIPTION:
URL:https://iglesiaarcadesalvacion.de/event/santa-cena-2/
LOCATION:Iglesia Pentecostal Arca de Salvacion e.V.\, Hirblinger Straße 133b\, Augsburg\, Bayern\, 86156\, Alemania
ATTACH;FMTTYPE=image/jpeg:https://iglesiaarcadesalvacion.de/wp-content/uploads/2023/07/Kopie-von-CULTO-DE-CENA-C44.jpeg
ORGANIZER;CN="Pastor Jorge Rosario":MAILTO:arcadesalvacione.v@gmail.com
END:VEVENT
BEGIN:VEVENT
DTSTART;TZID=Europe/Helsinki:20250321T210000
DTEND;TZID=Europe/Helsinki:20250321T233000
DTSTAMP:20260421T101858
CREATED:20250311T165607Z
LAST-MODIFIED:20250311T165607Z
UID:1795-1742590800-1742599800@iglesiaarcadesalvacion.de
SUMMARY:Noche de Vigilia
DESCRIPTION:
URL:https://iglesiaarcadesalvacion.de/event/noche-de-vigilia/
LOCATION:Iglesia Pentecostal Arca de Salvacion e.V.\, Hirblinger Straße 133b\, Augsburg\, Bayern\, 86156\, Alemania
ATTACH;FMTTYPE=image/png:https://iglesiaarcadesalvacion.de/wp-content/uploads/2025/03/Copia-de-Copia-de-ENSENANZA-BIBLICA-16.png
ORGANIZER;CN="Pastor Jorge Rosario":MAILTO:arcadesalvacione.v@gmail.com
END:VEVENT
BEGIN:VEVENT
DTSTART;TZID=Europe/Helsinki:20250328T190000
DTEND;TZID=Europe/Helsinki:20250328T210000
DTSTAMP:20260421T101858
CREATED:20250305T042501Z
LAST-MODIFIED:20250305T042501Z
UID:1753-1743188400-1743195600@iglesiaarcadesalvacion.de
SUMMARY:Viernes de Avivamiento
DESCRIPTION:
URL:https://iglesiaarcadesalvacion.de/event/viernes-de-avivamiento-12/
LOCATION:Iglesia Pentecostal Arca de Salvacion e.V.\, Hirblinger Straße 133b\, Augsburg\, Bayern\, 86156\, Alemania
ATTACH;FMTTYPE=image/png:https://iglesiaarcadesalvacion.de/wp-content/uploads/2025/03/Copia-de-Copia-de-EVENTO-C01.png
ORGANIZER;CN="Pastor Jorge Rosario":MAILTO:arcadesalvacione.v@gmail.com
END:VEVENT
END:VCALENDAR