BEGIN:VCALENDAR
VERSION:2.0
PRODID:-//Iglesia Arca de Salvación e.V. - ECPv6.15.20//NONSGML v1.0//EN
CALSCALE:GREGORIAN
METHOD:PUBLISH
X-WR-CALNAME:Iglesia Arca de Salvación e.V.
X-ORIGINAL-URL:https://iglesiaarcadesalvacion.de
X-WR-CALDESC:Eventos para Iglesia Arca de Salvación e.V.
REFRESH-INTERVAL;VALUE=DURATION:PT1H
X-Robots-Tag:noindex
X-PUBLISHED-TTL:PT1H
BEGIN:VTIMEZONE
TZID:UTC
BEGIN:STANDARD
TZOFFSETFROM:+0000
TZOFFSETTO:+0000
TZNAME:UTC
DTSTART:20250101T000000
END:STANDARD
END:VTIMEZONE
BEGIN:VEVENT
DTSTART;TZID=UTC:20260208T140000
DTEND;TZID=UTC:20260208T173000
DTSTAMP:20260420T154335
CREATED:20260205T210101Z
LAST-MODIFIED:20260205T210101Z
UID:1895-1770559200-1770571800@iglesiaarcadesalvacion.de
SUMMARY:Culto de Santa Cena
DESCRIPTION:
URL:https://iglesiaarcadesalvacion.de/event/culto-de-santa-cena-5/
LOCATION:Iglesia Pentecostal Arca de Salvacion e.V.\, Hirblinger Straße 133b\, Augsburg\, Bayern\, 86156\, Alemania
ATTACH;FMTTYPE=image/jpeg:https://iglesiaarcadesalvacion.de/wp-content/uploads/2026/02/Kopie-von-CULTO-DE-CENA-C44.jpeg
ORGANIZER;CN="Pastor Jorge Rosario":MAILTO:arcadesalvacione.v@gmail.com
END:VEVENT
END:VCALENDAR