BEGIN:VCALENDAR
VERSION:2.0
PRODID:-//Iglesia Arca de Salvación e.V. - ECPv6.15.20//NONSGML v1.0//EN
CALSCALE:GREGORIAN
METHOD:PUBLISH
X-ORIGINAL-URL:https://iglesiaarcadesalvacion.de
X-WR-CALDESC:Eventos para Iglesia Arca de Salvación e.V.
REFRESH-INTERVAL;VALUE=DURATION:PT1H
X-Robots-Tag:noindex
X-PUBLISHED-TTL:PT1H
BEGIN:VTIMEZONE
TZID:UTC
BEGIN:STANDARD
TZOFFSETFROM:+0000
TZOFFSETTO:+0000
TZNAME:UTC
DTSTART:20240101T000000
END:STANDARD
END:VTIMEZONE
BEGIN:VEVENT
DTSTART;TZID=UTC:20251130T140000
DTEND;TZID=UTC:20251130T173000
DTSTAMP:20260420T171812
CREATED:20251125T220109Z
LAST-MODIFIED:20251125T220109Z
UID:1861-1764511200-1764523800@iglesiaarcadesalvacion.de
SUMMARY:Culto de Testimonio y Agradecimiento
DESCRIPTION:
URL:https://iglesiaarcadesalvacion.de/event/culto-de-testimonio-y-agradecimiento/
LOCATION:Iglesia Pentecostal Arca de Salvacion e.V.\, Hirblinger Straße 133b\, Augsburg\, Bayern\, 86156\, Alemania
ATTACH;FMTTYPE=image/jpeg:https://iglesiaarcadesalvacion.de/wp-content/uploads/2025/11/Copia-de-Ignite-Your-Faith.jpeg
ORGANIZER;CN="Pastor Jorge Rosario":MAILTO:arcadesalvacione.v@gmail.com
END:VEVENT
END:VCALENDAR