BEGIN:VCALENDAR
VERSION:2.0
PRODID:-//Iglesia Arca de Salvación e.V. - ECPv6.15.20//NONSGML v1.0//EN
CALSCALE:GREGORIAN
METHOD:PUBLISH
X-ORIGINAL-URL:https://iglesiaarcadesalvacion.de
X-WR-CALDESC:Eventos para Iglesia Arca de Salvación e.V.
REFRESH-INTERVAL;VALUE=DURATION:PT1H
X-Robots-Tag:noindex
X-PUBLISHED-TTL:PT1H
BEGIN:VTIMEZONE
TZID:UTC
BEGIN:STANDARD
TZOFFSETFROM:+0000
TZOFFSETTO:+0000
TZNAME:UTC
DTSTART:20240101T000000
END:STANDARD
END:VTIMEZONE
BEGIN:VEVENT
DTSTART;VALUE=DATE:20251031
DTEND;VALUE=DATE:20251101
DTSTAMP:20260420T141824
CREATED:20251023T170427Z
LAST-MODIFIED:20251023T171812Z
UID:1845-1761868800-1761955199@iglesiaarcadesalvacion.de
SUMMARY:Vigilia de Guerra
DESCRIPTION:
URL:https://iglesiaarcadesalvacion.de/event/vigilia-de-guerra-2/
LOCATION:Iglesia Pentecostal Arca de Salvacion e.V.\, Hirblinger Straße 133b\, Augsburg\, Bayern\, 86156\, Alemania
ATTACH;FMTTYPE=image/jpeg:https://iglesiaarcadesalvacion.de/wp-content/uploads/2025/10/Post-instagram-Invitacion-evento-iglesia-cristiana-culto-cristiano-vigilia-oracion-Religion-Amarillo.jpeg
ORGANIZER;CN="Pastor Jorge Rosario":MAILTO:arcadesalvacione.v@gmail.com
END:VEVENT
END:VCALENDAR